BEGIN:VCALENDAR
VERSION:2.0
PRODID:-//92.205.173.72//NONSGML kigkonsult.se iCalcreator 2.20//
CALSCALE:GREGORIAN
METHOD:PUBLISH
X-WR-TIMEZONE:UTC
BEGIN:VEVENT
UID:event178@Bergbauverein Ronneburg e.V.
DTSTAMP:20260419T173707Z
CATEGORIES:öffentliches Treffen
DESCRIPTION:Eröffnung der Ausstellung  zur Geschichte des Niedersächsischen
  Museums für Kali- und Salzbergbau e.V.\nKategorie: öffentliches Treffen\n
 ICS-Link: http://bergbauverein-ronneburg.de/index.php?option=com_jem&view=
 event&id=178:eroeffnung-der-ausstellung-zur-geschichte-des-niedersaechsisc
 hen-museums-fuer-kali-und-salzbergbau-e-v\n
DTSTART:20240427T150000Z
DTEND:20240427T183000Z
LOCATION:Bergbaumuseum\,Bahnhofstraße 2\,07580 Ronneburg
SUMMARY:Eröffnung der Ausstellung  zur Geschichte des Niedersächsischen Mus
 eums für Kali- und Salzbergbau e.V.
URL:http://bergbauverein-ronneburg.de/index.php?option=com_jem&view=event&i
 d=178:eroeffnung-der-ausstellung-zur-geschichte-des-niedersaechsischen-mus
 eums-fuer-kali-und-salzbergbau-e-v
END:VEVENT
END:VCALENDAR